BEGIN:VCALENDAR
VERSION:2.0
PRODID:-//Purkersdorf Online//NONSGML V1.0//DE
BEGIN:VEVENT
UID:13099@puon.at
DTSTAMP:20260424T175412
DTSTART:20180317T193000
DTEND:20180317T220000
LAST-MODIFIED:20180129T171910
DESCRIPTION:Diese neue Bigband ist ein von Fritz Ozmec (dr) initiiertes 
 Projekt von Top-Musikern aus dem Wiener Raum.\r\nAufgrund der regelmÃ¤ÃŸ
 igen Probenarbeit (die keineswegs selbstverstÃ¤ndlich ist) sind die prof
 essionellen Musiker imstande\, anspruchsvolle Arrangements auf hÃ¶chstem
  Niveau zu spielen.\r\nEs erwarten Sie Nummern aus den Bandbooks von Cou
 nt Basie\, Sammy Nestico\, Woody Herman\, Buddy Rich\, Bob Mintzer\, Pet
 er Herbolzheimer\, Arturo Sandoval u.a. Gespielt wird in klassischer Bes
 etzung: 5 Trompeten\, 4 Posaunen\,\r\n5 Saxophone\, Rhythmusgruppe.\r\n\
 r\nCarole Alston:\r\nDie Tochter eines Baptistenpredigers kam frÃ¼h mit 
 der Musik der afroamerikanischen Kirchen in BerÃ¼hrung und entwickelte b
 ald ihre Liebe zu Gospels\, Spirituals und Jubilees. WÃ¤hrend der Highsc
 hoolzeit sang sie mit diversen Bands vor allem die Motownhits dieser Zei
 t\, widmete sich allerdings auch dem Sport und schaffte es im HÃ¼rdenlau
 f bis zur Staatsmeisterin von Maryland.\r\nSie studierte Schauspiel\, Ta
 nz und Gesang an der Howard University College of Fine Arts und wurde un
 mittelbar nach ihrem Abschluss nach Europa engagiert.\r\nSie verkÃ¶rpert
 e erfolgreich zahlreiche Hauptrollen in Musicals wie die Kate in Kiss Me
 \, Kate\, die Maria Magdalena in Jesus Christ Superstar\, die Aldonza in
  Der Mann von La Mancha oder die Anita in der West Side Story. Daneben a
 rbeitete sie auch als Schauspielerin am Sprechtheater (u.a. an der Seite
  von Karl SchÃ¶nbÃ¶ck oder Karin Dor) oder als SÃ¤ngerin bei TV-Shows (u
 .a. mit Jose Carreras).\r\nAls JazzsÃ¤ngerin trat sie unter anderem beim
  Salzburger Jazzherbst\, im Jazzland und Joe Zawinuls Birdland in Wien s
 owie zuletzt in Prag\, Paris\, Warschau\, Istanbul und im Goldenen Saal 
 des Wiener Musikvereins gemeinsam mit dem Wiener Singverein (unter Johan
 nes Prinz) auf. Dabei arbeitete sie unter anderem mit Richard Oesterreic
 her\, Michael Starch\, Andi Weiss\, Aaron Wonesch\, Erwin Schmidt\, Herb
 ert Pichler\, Heribert Kohlich\, Christian Havel\, Hans Strasser\, Haral
 d Putz\, Uli Langthaler\, Heinz von Hermann\, Thomas Huber\, Martin Fuss
 \, Thomas Kugi\, Joris Dudli und Walter Grassmann zusammen.    \r\n\r\nB
 esetzung:\r\nManfred Holzhacker\, Walter Fend\, Lukas Hartl\, Markus Pec
 hmann – tp\r\nBobby Dodge\, Robert Bachner\, Andreas Mittermaier\, Marku
 s Eckel – tb\r\nGert Kolaja\, Benjamin Daxbacher\, Martin Harms\, Helmut
  Strobl\, Ray Aichinger – sax\r\nHerbert Otahal – p\r\nChristoph Petschi
 na – b\r\nFritz Ozmec - dr\, leader  ___________________________________
 __________________________________________________________________\r\n\r
 \nEinlass: 18:30 Uhr\r\nBeginn: 19:30 Uhr\r\n\r\nKarten:\r\n\r\n    VVK 
 oeticket: Karten online | Tel.: 0196096\r\n    VVK "Die BÃ¼hne": e-mail 
 Kartenreservierung | Tel: 02231 64853 (Anrufbeantworter)\r\n    Karten V
 orverkauf: € 20.- (Abholung an der Abendkassa)\r\n    Karten Abendkassa:
  € 23.-\r\n\r\nErmÃ¤ÃŸigungen:\r\n\r\n    SchÃ¼ler/Studenten/1424Jugend:
 karte NÃ– (Ausweis) Ticketpreis € 10.-\r\n    NÃ–N-Leserclub: € 2.- ErmÃ
 ¤ÃŸigung pro Ticket fÃ¼r Mitglieder\r\n    Ã–1-Club: 20% ErmÃ¤ÃŸigung pr
 o Ticket (Club-Ausweis)\r\n\r\n\r\nRegionaler Vorverkauf: (ab VerfÃ¼gbar
 keit)\r\n\r\n    NIKODEMUS / Purkersdorf \r\n    HAAR-ATELIER Eva BÃ¶hm 
 / Gablitz\r\n    RYDL´s Friseur+Haarreparatur / Purkersdorf
 
LOCATION:BÃ¼hne
SUMMARY:Vienna JAZZ Orchestra feat. Carole Alston
END:VEVENT
END:VCALENDAR
