BEGIN:VCALENDAR
VERSION:2.0
PRODID:-//Purkersdorf Online//NONSGML V1.0//DE
BEGIN:VEVENT
UID:13093@puon.at
DTSTAMP:20260424T175413
DTSTART:20180317T100000
DTEND:20180317T-1:0:0
LAST-MODIFIED:20180125T104704
DESCRIPTION:Juhu\, auch im Jahr 2018 wieder im Pop-Up-Store:\r\n\r\nANNE
 TT ACKERMANN Schmuck und\r\nMONIKA NAGL Schneiderhandwerk\r\n\r\npräsen
 tieren gemeinsam ihre aktuellen Kollektionen im Pop-Up-Store am Hauptpla
 tz 11 in Purkersdorf (neben BIPA).\r\n\r\nAm Freitag\, 16.3. von 10-18Uh
 r und Samstag\, 17.3. von 10-13Uhr.\r\nNicht vergessen: am 1.4. ist Oste
 rn!\r\n\r\nWir freuen uns auf alle Besucherinnen und einen tollen gemein
 samen Pop-Up-Store.\r\n\r\nMonika Nagl & Annett Ackermann\r\n\r\n\r\nWir
  danken Lichtpunkt Katharina Wocelka für die tollen Fotos!
 
LOCATION:Hauptplatz 11 Purkersdorf
URL:http://annett-ackermann.com
SUMMARY:Pop-Up-Store // Schmuck & Schneiderhandwerk
END:VEVENT
END:VCALENDAR
