BEGIN:VCALENDAR
VERSION:2.0
PRODID:-//Purkersdorf Online//NONSGML V1.0//DE
BEGIN:VEVENT
UID:13054@puon.at
DTSTAMP:20260422T140043
DTSTART:20180323T193000
DTEND:20180323T220000
LAST-MODIFIED:20171227T121706
DESCRIPTION:Das neue Heli Deinboek Solo: komprimierte Liedermacher-Satir
 e inmitten der weltweit akuten Dekadenz-Sintflut.\r\n\r\nWie jeder spiri
 tuell bewaffnete Blueser im Auftrag des Herrn unterwegs\, muss Heli Dein
 boek fÃ¼r die nachhaltige LÃ¤uterung des veganen Dieselfahrers wieder du
 rch die Lande ziehen.\r\n\r\nWie in seinen AnfÃ¤ngen Ende der 70er Jahre
  bemÃ¼ht der satirische EinzelgÃ¤nger diesmal keine Mitmusiker\, sondern
  nur die Korpus-Gitarre als groovende Mindestsicherung\, damit das bÃ¶se
  Schandmaul beim Philosophieren nicht ganz allein loslegen muÃŸ.\r\n\r\n
 Eine dichte Heli Deinboek-Nachtschicht mit vielen neuen\r\nSongs fÃ¼r te
 uflisch herbes Wiener Blues-VergnÃ¼gen.\r\nHeli Deinboek (Texte und Musi
 k\, Gitarre\, Stimme)\r\n\r\n __________________________________________
 ___________________________________________________________\r\n\r\nEinla
 ss: 18:30 Uhr\r\nBeginn: 19:30 Uhr\r\n\r\nKarten:\r\n\r\n    VVK oeticke
 t: Karten online demnÃ¤chst... | Tel.: 0196096\r\n    VVK "Die BÃ¼hne": 
 e-mail Kartenreservierung | Tel: 02231 64853\r\n    Karten Vorverkauf: €
  18.- (Abholung an der Abendkassa)\r\n    Karten Abendkassa: € 20.-\r\n\
 r\nErmÃ¤ÃŸigungen:\r\n\r\n    SchÃ¼ler/Studenten/1424Jugend:karte NÃ– (A
 usweis) Ticketpreis € 10.-\r\n    NÃ–N-Leserclub: € 2.- ErmÃ¤ÃŸigung pro
  Ticket fÃ¼r Mitglieder\r\n    Ã–1-Club: 20% ErmÃ¤ÃŸigung pro Ticket (Cl
 ub-Ausweis)\r\n\r\n\r\nRegionaler Vorverkauf: (ab VerfÃ¼gbarkeit)\r\n\r\
 n    NIKODEMUS / Purkersdorf \r\n    HAAR-ATELIER Eva BÃ¶hm / Gablitz\r\
 n    RYDL´s Friseur+Haarreparatur / Purkersdorf
 
LOCATION:Kulturverein "Die BÃ¼hne"
URL:http://www.die-buehne-purkersdorf.at/index.php?id=65
SUMMARY:HELI Deinboek - Solo "Nachtschicht"
END:VEVENT
END:VCALENDAR
