BEGIN:VCALENDAR
VERSION:2.0
PRODID:-//Purkersdorf Online//NONSGML V1.0//DE
BEGIN:VEVENT
UID:13017@puon.at
DTSTAMP:20260422T084043
DTSTART;VALUE=DATE:20180326
DTEND;VALUE=DATE:20180327
LAST-MODIFIED:20171221T231353
LOCATION:Purkersdorf
SUMMARY:Biomüll
END:VEVENT
END:VCALENDAR
