BEGIN:VCALENDAR
VERSION:2.0
PRODID:-//Purkersdorf Online//NONSGML V1.0//DE
BEGIN:VEVENT
UID:12990@puon.at
DTSTAMP:20260422T155729
DTSTART;VALUE=DATE:20180322
DTEND;VALUE=DATE:20180323
LAST-MODIFIED:20171221T231605
LOCATION:Purkersdorf
SUMMARY:Restmüll 770-1100l
END:VEVENT
END:VCALENDAR
