BEGIN:VCALENDAR
VERSION:2.0
PRODID:-//Purkersdorf Online//NONSGML V1.0//DE
BEGIN:VEVENT
UID:12963@puon.at
DTSTAMP:20260421T180743
DTSTART;VALUE=DATE:20180403
DTEND;VALUE=DATE:20180404
LAST-MODIFIED:20171215T232548
SUMMARY:Altpapier
END:VEVENT
END:VCALENDAR
