BEGIN:VCALENDAR
VERSION:2.0
PRODID:-//Purkersdorf Online//NONSGML V1.0//DE
BEGIN:VEVENT
UID:12950@puon.at
DTSTAMP:20260421T162815
DTSTART;VALUE=DATE:20180404
DTEND;VALUE=DATE:20180405
LAST-MODIFIED:20171215T232119
SUMMARY:Gelber Sack
END:VEVENT
END:VCALENDAR
