BEGIN:VCALENDAR
VERSION:2.0
PRODID:-//Purkersdorf Online//NONSGML V1.0//DE
BEGIN:VEVENT
UID:6p01pmlqk3usv9eb750p512d1l@google.com
DTSTAMP:20260421T215416
DTSTART:20180401T110000
DTEND:20180401T133000
LAST-MODIFIED:20171127T112117
DESCRIPTION:Auf die Plätze\, fertig los! Am Ostersonntag schnell die vi
 elen bunten Ostereier und Süßigkeiten suchen\, die der fleißige Oster
 hase und seine Helferleins auf der gesamten Kellerwiese versteckt haben.
  Im Anschluss an die Suche kann man sich bei einem herzhaften Osterbuffe
 t entsprechend stärken oder sich beim Naturpark-Team zu den Aktivitäte
 n der Saison 2018 informieren und anmelden.
 
LOCATION:Naturpark Purkersdorf, Kellerwiese
SUMMARY:Ostereiersuche auf der Kellerwiese
END:VEVENT
END:VCALENDAR
