BEGIN:VCALENDAR
VERSION:2.0
PRODID:-//Purkersdorf Online//NONSGML V1.0//DE
BEGIN:VEVENT
UID:12448@puon.at
DTSTAMP:20260421T231255
DTSTART:20161125T180000
DTEND:20161125T190000
LAST-MODIFIED:20161124T234803
DESCRIPTION:Die Adventeröffnung mit Weihnachtsbaumsegnung erfolgt vor d
 er römisch katholischen Pfarrkirche.
 
LOCATION:Hauptplatz
SUMMARY:Adventeröffnung
END:VEVENT
END:VCALENDAR
