BEGIN:VCALENDAR
VERSION:2.0
PRODID:-//Purkersdorf Online//NONSGML V1.0//DE
BEGIN:VEVENT
UID:12445@puon.at
DTSTAMP:20260422T120815
DTSTART:20161118T170000
DTEND:20161118T210000
LAST-MODIFIED:20161115T184645
DESCRIPTION:Der Herbst hat Einzug gehalten und wir sind bereit unsere Ga
 rdarobe mit euch zu tauschen :)\r\nDer "Hausbrauch" ist inzwischen wohl 
 bekannt: Ihr bringt gute Stücke (Kleidung\, Schuhe\, Taschen\, Schals)\
 , die zur Jahreszeit passen und tauscht in der gemütlichen Atmosphäre 
 unseres Abends mit anderen Menschen.\r\nWir freuen uns auf deine Teilnah
 me!
 
LOCATION:Respect Kulturhaus, Kaiser Josef Strasse 49, Kaiser Josef Strasse 49
SUMMARY:Kleidertauschparty Liste Baum & Grüne
END:VEVENT
END:VCALENDAR
