BEGIN:VCALENDAR
VERSION:2.0
PRODID:-//Purkersdorf Online//NONSGML V1.0//DE
BEGIN:VEVENT
UID:12442@puon.at
DTSTAMP:20260421T212723
DTSTART:20161126T160000
DTEND:20161126T180000
LAST-MODIFIED:20161109T222646
DESCRIPTION:Diesmal wollen wir uns an ein spannendes Experiment wagen: w
 as passiert mit dem Rhythmus\, wenn das Licht ausgeht? Wenn wir uns nur 
 auf unser GehÃ¶r verlassen kÃ¶nnen? Gelingt uns die Orientierung? Kommt 
 der Rhythmus ins Schwanken\, wird er zur arhyhtmischen Klanglandschaft\,
  stabilisiert er sich wieder? Probieren wir es aus - nicht die ganzen 2 
 Stunden\, aber so lange es uns freut! Ich bin sehr gespannt!\r\n\r\nWir 
 beginnen wie immer mit einem rhythmischen AufwÃ¤rmen\, Body Percussion u
 nd Vocal Grooves\, bauen unsere rhythmische Energie und KreativitÃ¤t auf
  und Ã¼bertragen diese auf die Instrumente - so entsteht bei jedem Tromm
 elabend ein einzigartiges Ensemble. \r\n\r\nEigene Trommeln sind willkom
 men\, aber nicht erforderlich!\r\n**************************************
 ********\r\nOrganisationsbeitrag: 15 €\r\nSchnupperpreis fÃ¼r Erstbesuch
 er: 10 €\r\nWer einen „Erstling“ zum Schnuppern mitbringt\, zahlt ebenfa
 lls nur 10 € \r\n\r\nFÃ¼r Tauschkreismitglieder Bezahlung auch in Stunde
 n mÃ¶glich! \r\n\r\nInfo & Anmeldung: info@groovyspirit.at\, 0680 203090
 7\r\nwww.groovyspirit.at\r\n\r\nDa der Platz begrenzt ist\, ist eine Anm
 eldung (unter Angabe einer RÃ¼ckrufnummer) unbedingt erforderlich!\r\n\r
 \nnÃ¤chster Termin voraussichtlich 09.12. - diesmal ein besinnlicher Tro
 mmel- und Klangabend!
 
LOCATION:Purkersdorf-Wintergasse, , 
URL:http:http://www.groovyspirit.at/drum-circle/drumming-in-the-dark/
SUMMARY:Drumming in the Dark im Trommelsalon Wintergasse
END:VEVENT
END:VCALENDAR
