BEGIN:VCALENDAR
VERSION:2.0
PRODID:-//Purkersdorf Online//NONSGML V1.0//DE
BEGIN:VEVENT
UID:12440@puon.at
DTSTAMP:20260422T101306
DTSTART:20161119T180000
DTEND:20161119T220000
LAST-MODIFIED:20161104T120754
DESCRIPTION:Jahreshauptversammlung des Stadtverschönerungsvereines Purk
 ersdorf und Preisverleihung des Blumenschmuckwettbewerbs 2016.\r\n\r\nWi
 r freuen uns auf Ihren Besuch!
 
LOCATION:Pfarrheim Purkersdorf
URL:http://www.purkersdorf-online.at/http/verschoenerung/generalversammlung.php
SUMMARY:Jahreshauptversammlung Stadtverschönerungsverein
END:VEVENT
END:VCALENDAR
