BEGIN:VCALENDAR
VERSION:2.0
PRODID:-//Purkersdorf Online//NONSGML V1.0//DE
BEGIN:VEVENT
UID:12438@puon.at
DTSTAMP:20260424T174419
DTSTART:20161111T200000
DTEND:20161111T240000
LAST-MODIFIED:20161104T093430
DESCRIPTION:Ab sofort jeden Freitag:\r\nKaraoke-Abend im Salettl!\r\n\r\
 n
 
LOCATION:Salettl
SUMMARY:Karaoke-Abend
END:VEVENT
END:VCALENDAR
