BEGIN:VCALENDAR
VERSION:2.0
PRODID:-//Purkersdorf Online//NONSGML V1.0//DE
BEGIN:VEVENT
UID:12434@puon.at
DTSTAMP:20260425T022037
DTSTART:20161105T150000
DTEND:20161105T160000
LAST-MODIFIED:20161104T090408
DESCRIPTION:Agathes Musikkoffer - Konzerte für ein junges Publikum ab dr
 ei Jahren\r\nSchauspiel und Inszenierung: Veronika Mandl\r\nMusikerinnen
 :\r\nIsmene Weiß – Hardangerfiedel\r\nKerstin Neubauer – Gitarre\r\nTrad
 itionelle Musik aus Norwegen\r\n\r\nKartenverkauf: Rathaus – Finanzabtei
 lung\, Hauptplatz 1\r\nBIZ-Purkersdorf – Musikschule\, Schwarzhuberg. 5 
 – und vor Ort\r\nKartenpreis: € 9\,- pro Kind mit 1ner Begleitperson\, j
 ede weitere Begleitperson € 9\,-
 
LOCATION:BIZ-Purkersdorf - Konzertsaal
SUMMARY:Agathes Musikkoffer - "Fiedele wedele"
END:VEVENT
END:VCALENDAR
