BEGIN:VCALENDAR
VERSION:2.0
PRODID:-//Purkersdorf Online//NONSGML V1.0//DE
BEGIN:VEVENT
UID:12432@puon.at
DTSTAMP:20260422T151932
DTSTART:20161116T190000
DTEND:20161116T210000
LAST-MODIFIED:20161102T081803
LOCATION:Re:spect Kulturhaus
SUMMARY:Leseabend
END:VEVENT
END:VCALENDAR
