BEGIN:VCALENDAR
VERSION:2.0
PRODID:-//Purkersdorf Online//NONSGML V1.0//DE
BEGIN:VEVENT
UID:12431@puon.at
DTSTAMP:20260424T215550
DTSTART:20161108T100000
DTEND:20161108T120000
LAST-MODIFIED:20161028T213716
LOCATION:evangelische Kirche Wintergasse 
URL:http://selbstwertstaette.net
SUMMARY:Schals umgestalten Teil1
END:VEVENT
END:VCALENDAR
