BEGIN:VCALENDAR
VERSION:2.0
PRODID:-//Purkersdorf Online//NONSGML V1.0//DE
BEGIN:VEVENT
UID:12430@puon.at
DTSTAMP:20260424T232337
DTSTART:20161107T190000
DTEND:20161107T210000
LAST-MODIFIED:20161028T212429
LOCATION:Purkersdorf Wienerstrasse 6
URL:http://selbstwertstaette.net
SUMMARY:Depression kann jeden treffen
END:VEVENT
END:VCALENDAR
