BEGIN:VCALENDAR
VERSION:2.0
PRODID:-//Purkersdorf Online//NONSGML V1.0//DE
BEGIN:VEVENT
UID:12429@puon.at
DTSTAMP:20260424T232418
DTSTART:20161107T193000
DTEND:20161107T210000
LAST-MODIFIED:20161021T175306
LOCATION:Purkersdorf Wienerstrasse 8
URL:http://www.selbstwertstaette.net
SUMMARY:Depression kann jeden treffen
END:VEVENT
END:VCALENDAR
