BEGIN:VCALENDAR
VERSION:2.0
PRODID:-//Purkersdorf Online//NONSGML V1.0//DE
BEGIN:VEVENT
UID:12428@puon.at
DTSTAMP:20260425T202733
DTSTART:20161025T160000
DTEND:20161025T173000
LAST-MODIFIED:20161020T100259
LOCATION:Wienerstrasse 8 Purkersdorf
URL:http://www.kunsttherapie-sykora.at
SUMMARY:KinderMalschule
END:VEVENT
END:VCALENDAR
