BEGIN:VCALENDAR
VERSION:2.0
PRODID:-//Purkersdorf Online//NONSGML V1.0//DE
BEGIN:VEVENT
UID:12427@puon.at
DTSTAMP:20260425T185717
DTSTART:20161026T093000
DTEND:20161026T133000
LAST-MODIFIED:20161015T103652
LOCATION:Purkersdorf
URL:http://www.sportfreunde-purkersdorf.at
SUMMARY:Fitmarsch 2016 - 150-Minuten-Wanderung
END:VEVENT
END:VCALENDAR
