BEGIN:VCALENDAR
VERSION:2.0
PRODID:-//Purkersdorf Online//NONSGML V1.0//DE
BEGIN:VEVENT
UID:12419@puon.at
DTSTAMP:20260425T161115
DTSTART:20161028T200000
DTEND:20161028T210000
LAST-MODIFIED:20161010T230350
DESCRIPTION:Ab sofort jeden Freitag:\r\nKaraoke-Abend im Salettl!\r\n\r\
 n
 
LOCATION:Salettl
SUMMARY:Karaoke-Abend
END:VEVENT
END:VCALENDAR
