BEGIN:VCALENDAR
VERSION:2.0
PRODID:-//Purkersdorf Online//NONSGML V1.0//DE
BEGIN:VEVENT
UID:12418@puon.at
DTSTAMP:20260426T030420
DTSTART:20161021T200000
DTEND:20161021T-2:0:0
LAST-MODIFIED:20161010T230350
DESCRIPTION:Ab sofort jeden Freitag:\r\nKaraoke-Abend im Salettl!\r\n\r\
 n
 
LOCATION:Salettl
SUMMARY:Karaoke-Abend
END:VEVENT
END:VCALENDAR
