BEGIN:VCALENDAR
VERSION:2.0
PRODID:-//Purkersdorf Online//NONSGML V1.0//DE
BEGIN:VEVENT
UID:12416@puon.at
DTSTAMP:20260422T044155
DTSTART:20161122T200000
DTEND:20161122T210000
LAST-MODIFIED:20161010T230716
DESCRIPTION:Der schweizer Autor\, Alex Capus\, liest aus seinem neuesten
  Roman "DAS LEBEN IST GUT".\r\nEinlass: 19 Uhr. Kartenvorbestellung in d
 er Buchhandlung Claus Mitterbauer\, Tel 02231/64336\, Verkauf (4 Wochen 
 vor Vorstellungsbeginn)
 
LOCATION:Die Bühne
URL:http://www.alexcapus.de/
SUMMARY:Buchhandlung Mitterbauer präsentiert: LESUNG
END:VEVENT
END:VCALENDAR
