BEGIN:VCALENDAR
VERSION:2.0
PRODID:-//Purkersdorf Online//NONSGML V1.0//DE
BEGIN:VEVENT
UID:12413@puon.at
DTSTAMP:20260424T203606
DTSTART:20161109T084500
DTEND:20161109T113000
LAST-MODIFIED:20161008T134000
DESCRIPTION:Frau Mag. Andrea Herzog spricht zum Thema:\r\n\r\nArmes Opfe
 r - oder entschiedene Frau?\r\n\r\nNeue Freude und Motivation zum Leben 
 - was beflügelt mich? Wie kann ich die Ratschläge umsetzen?\r\n\r\nAnmel
 dung bis spätestens 09.11.2016\r\ne-mail: fruehstueckstreffen.purkersdor
 f@chello.at\r\nTel.: 02231 66698\r\nMobil: 0681 81917781
 
LOCATION:Stadtsaal 3002 Purkersdorf Bachgasse 10 
URL:www.fruehstuecks-treffen.at/purkersdorf2016-11-12.html
SUMMARY:frühstücks-treffen für frauen
END:VEVENT
END:VCALENDAR
