BEGIN:VCALENDAR
VERSION:2.0
PRODID:-//Purkersdorf Online//NONSGML V1.0//DE
BEGIN:VEVENT
UID:12412@puon.at
DTSTAMP:20260426T062428
DTSTART:20161019T190000
DTEND:20161019T210000
LAST-MODIFIED:20161007T205034
DESCRIPTION:Jeden 3. Mittwoch im Monat\, 19 Uhr\, treffen wir uns zu uns
 erem Leseabend (Ort: Kulturhaus re:spect in Purkersdorf\, Kaiser-Josef-S
 traße 49). \r\n\r\nUnser nächster Leseabend am 19. Oktober führt uns lit
 erarisch an verschiedenste Reiseorte – Orte der Sehnsucht und des Unbeka
 nnten.  Besonders auch die Reiseberichte von Frauen interessieren uns un
 d ihr Mut zum Aufbruch ins Ungewisse. \r\nDaneben ist noch Gelegenheit\,
  unsere Begegnung mit H.C. Artmann zu rekapitulieren und zu ergänzen.\r\
 nDer Abend bietet gewiss wieder reichlich Gelegenheit für Diskussion und
  Gespräch\, wozu wir auch Gäste immer herzlich willkommen heißen!\r\n\r\
 n\r\n\r\n\r\n\r\n\r\n\r\n
 
LOCATION:re:spect Kulturhaus
SUMMARY:Leseabend
END:VEVENT
END:VCALENDAR
