BEGIN:VCALENDAR
VERSION:2.0
PRODID:-//Purkersdorf Online//NONSGML V1.0//DE
BEGIN:VEVENT
UID:12410@puon.at
DTSTAMP:20260421T212723
DTSTART:20161126T193000
DTEND:20161126T220000
LAST-MODIFIED:20161005T193027
DESCRIPTION:CHRISTMAS WITH JONI MADDEN\r\n\r\nEin Potpourri internationa
 ler WeihnachtsliederIhre Stimme ist Leidenschaft und Gefühl\, überschrei
 tet weit die Grenzen des Gewöhnlichen\, um uns aus dem Alltag heraus\, i
 n die Welt der Musik zu entführen.\r\n\r\nJoni Madden\, die charismatisc
 he Sängerin aus Amerika\, startete als Backgroundsängerin von W. Ambros 
 in Österreich\, und zählt mittlerweile zu den Aushängeschildern der Rock
  und Popszene.\r\n\r\nHighlights der letzten Jahre: Amadeus Award Gewinn
 erin\, Ski WM- Opening Star in St. Anton\, Hitsingle „Reaching for the S
 tars“\, Hauptrolle im Falcomusical\, zehn  veröffentlichte CD`s.\r\n\r\n
 Ihr neuestes Werk „ Hello Santa “ hat sie gemeinsam mit  dem Produzenten
  und Gitarristen\, Andy Cutic\, auf den Markt gebracht.\r\n\r\n2016 sind
  Joni Madden und Band mit einer stimmungsvollen Show auf Tour. Ein Potpo
 urri internationaler Weihnachtslieder\, das Herzen wärmt und uns für den
  Geist der Weihnacht öffnet.\r\n\r\nBesetzung:\r\nJoni Madden – Vocals\r
 \nAndy Cutic – Guitar\r\nWolfgang Tockner – Piano\r\nAndrea Traxler – Ce
 llo\r\nKatelynn Cutic - Backing Vocals\r\n\r\n _________________________
 ________________________________________________________________________
 ____\r\n\r\nEinlass: 18:30 Uhr\r\nBeginn: 19:30 Uhr\r\n\r\nKarten:\r\n\r
 \n    VVK oeticket: Karten online demnächst... | Tel.: 0196096\r\n    VV
 K "Die Bühne": e-mail Kartenreservierung | Tel: 02231 64853\r\n    Karte
 n Vorverkauf: € 23.- (Abholung an der Abendkassa)\r\n    Karten Abendkas
 sa: € 25.-\r\n\r\nSchüler/Studenten/1424Jugend:karte NÖ (Ausweis) € 10.-
 \r\n\r\n\r\nRegionaler Vorverkauf: (ab Verfügbarkeit)\r\n\r\n    NIKODEM
 US / Purkersdorf (bis 1 Tag vor Veranstaltungsbeginn)\r\n    HAAR-ATELIE
 R Eva Böhm / Gablitz\r\n    RYDL´s Friseur+Haarreparatur / Purkersdorf
 
LOCATION:Kulturverein "Die Bühne" Purkersdorf bei Wien, Wiener Straße 12, Wiener Straße 12
URL:http://www.die-buehne-purkersdorf.at/index.php?id=37
SUMMARY:Christmas with Joni Madden Ein Potpourri internationaler Weihna
END:VEVENT
END:VCALENDAR
