BEGIN:VCALENDAR
VERSION:2.0
PRODID:-//Purkersdorf Online//NONSGML V1.0//DE
BEGIN:VEVENT
UID:12402@puon.at
DTSTAMP:20260425T161115
DTSTART:20161028T200000
DTEND:20161028T220000
LAST-MODIFIED:20161005T141324
DESCRIPTION:Der Filmkritiker Sam steht an einem Wendepunkt in seinem Leb
 en. Seine Frau Nancy hat ihn verlassen und die Scheidung eingereicht\, w
 as seinem Ego einen gewaltigen Schlag versetzt. Das befreundete Ehepaar 
 Dick und Linda vermittelt dem Verlassenen ein Date nach dem anderen\, do
 ch alle scheitern. Als ihm sein größtes Kinoidol erscheint und gute Rats
 chläge für die Zukunft gibt\, schöpft Sam wieder Hoffnung - zu Recht?
 
LOCATION:Stadtsaal, 3002 Purkersdorf, Bachgasse 10, 
URL:http://www.theater-purkersdorf.at
SUMMARY:Premiere - Spiel´s nochmal, Sam!
END:VEVENT
END:VCALENDAR
