BEGIN:VCALENDAR
VERSION:2.0
PRODID:-//Purkersdorf Online//NONSGML V1.0//DE
BEGIN:VEVENT
UID:12399@puon.at
DTSTAMP:20260425T131122
DTSTART;VALUE=DATE:20161030
DTEND;VALUE=DATE:20161030
LAST-MODIFIED:20160923T103438
DESCRIPTION:Stellen Sie Ihre Uhren in der Nacht von Samstag auf Sonntag\
 , den 30.10.2016 früh von 3 Uhr auf 2 Uhr zurück!\r\n
 
SUMMARY:Ende der Sommerzeit
END:VEVENT
END:VCALENDAR
