BEGIN:VCALENDAR
VERSION:2.0
PRODID:-//Purkersdorf Online//NONSGML V1.0//DE
BEGIN:VEVENT
UID:12393@puon.at
DTSTAMP:20260424T103109
DTSTART:20161115T170000
DTEND:20161115T-1:0:0
LAST-MODIFIED:20160919T105515
DESCRIPTION:Der Behindertenverband versteht sich als überparteiliche und
  unabhängige Organisation\, zur Durchsetzung der Rechte der behinderten 
 Mitbürger\, und als Anlaufstelle zur Beratung in Behindertenfragen für a
 lle Mitbürger.
 
LOCATION:Rathaus
SUMMARY:Sprechstunde Behindertenverband
END:VEVENT
END:VCALENDAR
