BEGIN:VCALENDAR
VERSION:2.0
PRODID:-//Purkersdorf Online//NONSGML V1.0//DE
BEGIN:VEVENT
UID:12386@puon.at
DTSTAMP:20260421T231255
DTSTART:20161125T193000
DTEND:20161125T220000
LAST-MODIFIED:20160914T200740
DESCRIPTION:Fünf Instrumentalisten\, fünf Komponisten\, fünf Freunde!\r\
 n\r\n \r\nHier haben sich fünf Musiker zusammengetan\, um ihre eigenen K
 ompositionen und Arrangements zu spielen!\r\nIn Joschis Quintett haben s
 ie die Gelegenheit ihre Ideen zu verwirklichen.\r\nDie musikalischen Wur
 zeln der fünf Protagonisten wie Swing\, Blues\, Gypsy Jazz\, Bebop\, Lat
 in\, Modern Jazz und Funk verschmelzen in dieser Band zu einem eigenstän
 digen Sound\, der durch eine spezifisch wienerische Note noch den letzte
 n Schliff bekommt ”Wiener World Jazz“ oder besser: ”A Wöd Jazz aus Wien”
  für die Dialekt Kundigen.\r\n\r\nJoschi Scheeberger ist sowohl national
  als auch international in den verschiedensten musikalischen Richtungen 
 unterwegs. Als Bandleader bleibt er aber seinen “Roots” treu: Er pflegt 
 den Gipsy Jazz und sucht immer wieder neue Wege und Verbindungen\, um di
 ese Musik frisch zu halten und ihr neues Leben einzuhauchen.\r\n\r\nRobe
 rt Schönherr begleitet wie kein anderer und überrascht immer wieder mit 
 seinen Solis.\r\nDiknu Schneeberger soliert mit leichter Hand\, mit virt
 uoser und melodiöser Fantasie sowie mit einer geballten Ladung Swing\, w
 as das Zuhören zu einem einzigen Vergnügen macht.\r\nMartin Spitzer\, zä
 hlt zu den renommiertesten österreichischen Jazzgitarristen. Er begeiste
 rt durch stilistische Vielfalt\, geschmackvolle Begleitung und dynamisch
 e Phrasierung.\r\nToni Mühlhofer Studierte in Wien\, Boston\, Havanna\, 
 sein Zusammenspiel mit den Rhythmusgitarren gibt den Kompositionen einen
  ganz persönlichen Sound.\r\n\r\nJoschi Schneeberger – bass\r\nRobert Sc
 hönherr – piano\r\nDiknu Schneeberger – guitar\r\nMartin Spitzer – guita
 r\r\nToni Mühlhofer – percussion\r\n\r\nAudio/Viedeo\r\nwww.joschischnee
 berger.at  _____________________________________________________________
 ________________________________________\r\n\r\nEinlass: 18:30 Uhr\r\nBe
 ginn: 19:30 Uhr\r\n\r\nKarten:\r\n\r\n    VVK oeticket: Karten online de
 mnächst... | Tel.: 0196096\r\n    VVK "Die Bühne": e-mail Kartenreservie
 rung | Tel: 02231 64853\r\n    Karten Vorverkauf: € 18.- (Abholung an de
 r Abendkassa)\r\n    Karten Abendkassa: € 20.-\r\n\r\nSchüler/Studenten/
 1424Jugend:karte NÖ (Ausweis) € 10.-\r\n\r\n\r\nRegionaler Vorverkauf: (
 ab Verfügbarkeit)\r\n\r\n    NIKODEMUS / Purkersdorf (bis 1 Tag vor Vera
 nstaltungsbeginn)\r\n    HAAR-ATELIER Eva Böhm / Gablitz\r\n    RYDL´s F
 riseur+Haarreparatur / Purkersdorf
 
LOCATION:Kulturverein "Die Bühne" Purkersdorf bei Wien, Wiener Straße 12, Wiener Straße 12
SUMMARY:Joschi Schneeberger Quintett
END:VEVENT
END:VCALENDAR
