BEGIN:VCALENDAR
VERSION:2.0
PRODID:-//Purkersdorf Online//NONSGML V1.0//DE
BEGIN:VEVENT
UID:12385@puon.at
DTSTAMP:20260422T101306
DTSTART:20161119T170000
DTEND:20161119T180000
LAST-MODIFIED:20160914T200714
DESCRIPTION:Neue Advent- und Weihnachtslieder / MITMACHKONZERT FÜR KINDE
 R\r\n\r\n"Es schneit\, es schneit!"\r\n\r\nDer beliebte Kinderliedermach
 er hat Weihnachtslieder für Kinder komponiert - jedoch keine traditionel
 len Weihnachtslieder\, sondern neue\, kindgemäße Melodien und Texte rund
  um das große Fest.\r\nKinder und Erwachsene werden aktiv in das Konzert
  miteinbezogen und dürfen sogar auf die Bühne kommen!\r\nDass Bernhard F
 ibich weiß\, wovon er singt\, ist keine Überraschung: Er ist selbst Vate
 r von drei Kindern...\r\n\r\nSeit 1991 ist Bernhard Fibich hauptberuflic
 h und ausschließlich als Kinderliedermacher unterwegs.\r\nDavor war er j
 ahrelang Lehrer an verschiedenen Schultypen und in der Lehrerfortbildung
  tätig.\r\nEr hat eine abgeschlossene universitäre pädagogische Ausbildu
 ng und besitzt in zwei Fächern die Lehramtsprüfung für höhere Schulen.\r
 \nBernhard Fibich spielt etwa 250 Solo-Mitmachkonzerte für Kinder pro Ja
 hr.\r\n\r\nBernhard Fibichs Konzerte umfassen ausschließlich neue\, von 
 ihm komponierte und\r\ngetextete Lieder für Kinder von 3-11 Jahren.\r\nB
 ernhards Mitmachkonzerte sind lustig\, schwungvoll und reich an Bewegung
  für die Kinder. Die Musik ist kindgerecht\, einprägsam und wird live ge
 spielt.\r\nBernhard Fibich begleitet sich selbst und die singenden Kinde
 r auf der Gitarre.\r\n__________________________________________________
 ___________________________________________________\r\n\r\nEinlass: 16:3
 0 Uhr\r\nKonzert: 17:00 Uhr\r\n\r\nKarten:\r\n\r\n    VVK oeticket: Kart
 en online..demnächst | Tel.: 0196096\r\n    VVK "Die Bühne": e-mail Kart
 enreservierung | Tel: 02231 64853\r\n    Karten Vorverkauf: € 10.- (Abho
 lung an der Abendkassa)\r\n    Karten Abendkassa: € 10.- (Kinder bis 3 J
 . frei!)\r\n\r\n    Regionaler Vorverkauf:\r\n\r\n    NIKODEMUS / Purker
 sdorf (bis 1 Tag vor Veranstaltungsbeginn)\r\n    HAAR-ATELIER Eva Böhm 
 / Gablitz\r\n    RYDL´s Friseur+Haarreparatur / Purkersdorf
 
LOCATION:Kulturverein "Die Bühne" Purkersdorf bei Wien, Wiener Straße 12, Wiener Straße 12
SUMMARY:Kinderliedermacher Bernhard Fibich
END:VEVENT
END:VCALENDAR
