BEGIN:VCALENDAR
VERSION:2.0
PRODID:-//Purkersdorf Online//NONSGML V1.0//DE
BEGIN:VEVENT
UID:12384@puon.at
DTSTAMP:20260424T140601
DTSTART:20161113T110000
DTEND:20161113T133000
LAST-MODIFIED:20160914T200647
DESCRIPTION:Susanne Stockhammer\, Jazzsängerin mit viel Gefühl\, starkem
  Ausdruck und einer einzigartigen Stimme!\r\nSie studierte nicht nur Ges
 ang und widmet sich seit einigen Jahren mit großer Leidenschaft dem Jazz
 gesang\, sondern absolvierte auch ein Violinstudium und ist seit 1989 Br
 atschistin des nö.Tonkünstler-Orchesters.\r\nSusanne Stockhammer und ihr
 e Musiker verstehen es mit viel Feingefühl\, ihr Publikum mit ihren raff
 inierten Arrangements bekannter Jazzstandards von Cole Porter\, George G
 ershwin\, Harold Arlen u.a. zu begeistern. Außerdem dürfen wir uns auf i
 hre gelungenen Eigenkompositionen im  wienerisch-jazzigen Stil freuen.\r
 \n\r\nwww.susanne-stockhammer.jimdo.com\r\n  \r\nBesetzung:\r\n\r\n    S
 usanne Stockhammer - voc\r\n    Albert Reifert - piano\r\n    Edi Köhldo
 rfer – git.\r\n    Karol Hodas – bass\r\n\r\n __________________________
 ________________________________________________________________________
 ___\r\n\r\nEinlass: 10:30 Uhr\r\nBeginn: 11:00 Uhr\r\n\r\nKarten:\r\n\r\
 n    VVK oeticket: Karten online demnächst... | Tel.: 0196096\r\n    VVK
  "Die Bühne": e-mail Kartenreservierung | Tel: 02231 64853\r\n    Karten
  Vorverkauf: € 10.- (Abholung an der Abendkassa)\r\n    Karten Matineeka
 ssa: € 12.-\r\n\r\nSchüler/Studenten/1424Jugend:karte NÖ  € 10.-\r\n\r\n
 \r\nRegionaler Vorverkauf: (ab Verfügbarkeit)\r\n\r\n    NIKODEMUS / Pur
 kersdorf (bis 1 Tag vor Veranstaltungsbeginn)\r\n    HAAR-ATELIER Eva Bö
 hm / Gablitz\r\n    RYDL´s Friseur+Haarreparatur / Purkersdorf
 
LOCATION:Kulturverein "Die Bühne" Purkersdorf bei Wien, Wiener Straße 12, Wiener Straße 12
SUMMARY:Susanne Stockhammer Quartett „Wiener Jazz“ Matinee
END:VEVENT
END:VCALENDAR
