BEGIN:VCALENDAR
VERSION:2.0
PRODID:-//Purkersdorf Online//NONSGML V1.0//DE
BEGIN:VEVENT
UID:12383@puon.at
DTSTAMP:20260424T154302
DTSTART:20161112T193000
DTEND:20161112T220000
LAST-MODIFIED:20160914T200624
DESCRIPTION:Best of Loriot mit Musik\r\n\r\nErich Schleyer ist in Dresde
 n geboren.\, besuchte in Leipzig Theaterhochschule. Seine Karriere als S
 chauspieler begann in der DDR\, 1968 flüchtete er in die BRD. Seit über 
 40 Jahren ist er als Schauspieler tätig. Von der Klassik des Schauspiels
  auf Staats-Bühnen (Berlin\, Düsseldorf\, Zürich\, Hamburg\, München\, W
 ien) bis zum Straßentheater und Auftritten in vielen Ländern der Erde\, 
 sowie im Zirkus\, hat er alles gespielt. Er trat in mehr als 350 Fernseh
 - und Filmrollen. Im ORF "Erich's Chaos" und "Der schiefe Turm".\r\n\r\n
 Erich Schleyer spricht über Loriots literarische Bedeutung und seinen Hu
 mor.\r\n\r\nProgrammauszug:\r\nDer ganz offene Brief\r\nSollen Hunde fer
 nsehen\r\nAn der Opernkasse\r\nSzenen einer Ehe\r\n… oder Loriots "Klein
 er Opernführer" wird durch „Sain Mus“ zu einem musikalischen "Hochgenuss
 "\r\n\r\nErich Schleyer - Stimme\r\nClemens Sainitzer – Cello\r\nPhilipp
  Erasmus - Gitarre\r\n\r\n\r\n__________________________________________
 ___________________________________________________________\r\n\r\nEinla
 ss: 18:30 Uhr\r\nKonzert: 19:30 Uhr\r\n\r\nKarten:\r\n\r\n    VVK oetick
 et: Karten online demnächst... | Tel.: 0196096\r\n    VVK "Die Bühne": e
 -mail Kartenreservierung | Tel: 02231 64853\r\n    Karten Vorverkauf: € 
 20.- (Abholung an der Abendkassa)\r\n    Karten Abendkassa: € 22.-\r\n\r
 \nSchüler/Studenten/1424Jugend:karte NÖ (Ausweis) € 10.-\r\n\r\n20% Ermä
 ßigung für Ö1Club-Mitglieder\r\n\r\n\r\nRegionaler Vorverkauf: (ab Verfü
 gbarkeit)\r\n\r\n    NIKODEMUS / Purkersdorf (bis 1 Tag vor Veranstaltun
 gsbeginn)\r\n    HAAR-ATELIER Eva Böhm / Gablitz\r\n    RYDL´s Friseur+H
 aarreparatur / Purkersdorf
 
LOCATION:Kulturverein "Die Bühne" Purkersdorf bei Wien, Wiener Straße 12, Wiener Straße 12
SUMMARY:Erich Schleyer liest Loriot
END:VEVENT
END:VCALENDAR
