BEGIN:VCALENDAR
VERSION:2.0
PRODID:-//Purkersdorf Online//NONSGML V1.0//DE
BEGIN:VEVENT
UID:12382@puon.at
DTSTAMP:20260424T232337
DTSTART:20161107T193000
DTEND:20161107T220000
LAST-MODIFIED:20160914T200551
DESCRIPTION:BLUE MONDAY\r\n"Komplexe Rhythmen\, vereinnahmende Melodien 
 und außergewöhnliche Sounds. Teils improvisiert\, teils fest verankert. 
 So müsste man die Musik von Whales wohl beschreiben.\r\nVier Musiker\, d
 ie ihre Ideen sehr individuell umsetzen und sie dennoch immer zu einem g
 roßen\, harmonischen Ganzen zusammenfügen.\r\nDie Musik fordert den Zuhö
 rer heraus und lässt ihn in ein musikalisches Erlebnis der anderen Art e
 intauchen.\r\nGespielt wird ein zweiteiliges Set\, teils aus eigenem Mat
 erial der Band\, teils Cover Versionen aus dem Bereich des Prog Rock\, w
 elche die Richtung und Ästhetik der Band nachhaltig geprägt haben."\r\n\
 r\nWebsite: https://www.facebook.com/whalesbandofficial\r\n\r\nBesetzung
 :\r\nMartin Demmer (Gitarre)\r\nJan Bina (Vocals)\r\nJakob Wüstehube (Dr
 ums)\r\nDavid Loimer (Bass)\r\n\r\n=====================================
 ============================================================\r\n\r\nEinl
 ass: 18:30 Uhr\r\nKonzert: 19:30 Uhr\r\n\r\nEintritt: Freiwillige Spende
 
LOCATION:Kulturverein "Die Bühne" Purkersdorf bei Wien, Wiener Straße 12, Wiener Straße 12
SUMMARY:Whales - DIE Purkersdorfer Newcomer-Band des Rock
END:VEVENT
END:VCALENDAR
