BEGIN:VCALENDAR
VERSION:2.0
PRODID:-//Purkersdorf Online//NONSGML V1.0//DE
BEGIN:VEVENT
UID:12381@puon.at
DTSTAMP:20260425T022038
DTSTART:20161105T193000
DTEND:20161105T220000
LAST-MODIFIED:20160914T200531
DESCRIPTION:The Common Blue ist der Name eines Schmetterlings. Blue ist 
 auch ein Synonym für eine gewisse Stimmung in der Musik. The Common Blue
  interpretiert Songs von Billie Holiday\, Bob Dylan\, Fever Ray\, Franz 
 Schubert\, Arctic Monkeys\, Agnes Obel\, Peter Gabriel\, The Beatles\, u
 .a.\, die in der charismatischen Stimme von Kiara Hollatko und der sensi
 blen instrumentalen Begleitung ihrer Mitmusiker sozusagen „gemeinsame Ob
 hut“ finden.\r\nElemente der unterschiedlichsten Musikstile verschmelzen
  zu einem für die Band charakteristischen Sound-Kontinuum.\r\n\r\nKiara 
 Hollatko – vocals\r\nAndreas Mayerhofer – keyboards\r\nRobin Gadermaier 
 – e-bass\r\nWolfi Rainer – drums\r\n\r\nHörbeispiele hier: The Common Bl
 ue\r\n\r\nKooperation mit:\r\nneue musik in niederösterreich\r\neine ini
 tiative der musikfabrik nö  ____________________________________________
 _________________________________________________________\r\n\r\nEinlass
 : 18:30 Uhr\r\nVeranstaltungsbeginn: 19:30 Uhr\r\n\r\nKarten:\r\n\r\n   
  VVK oeticket: Karten online demnächst... | Tel.: 0196096\r\n    VVK "Di
 e Bühne": e-mail Kartenreservierung | Tel: 02231 64853\r\n    Karten Vor
 verkauf: € 19.- (Abholung an der Abendkassa)\r\n    Karten Abendkassa: €
  22.-\r\n\r\nSchüler/Studenten/1424Jugend:karte NÖ (Ausweis) € 10.-\r\n\
 r\n\r\nRegionaler Vorverkauf: (ab Verfügbarkeit)\r\n\r\n    NIKODEMUS / 
 Purkersdorf (bis 1 Tag vor Veranstaltungsbeginn)\r\n    HAAR-ATELIER Eva
  Böhm / Gablitz\r\n    RYDL´s Friseur+Haarreparatur / Purkersdorf
 
LOCATION:Kulturverein "Die Bühne" Purkersdorf bei Wien, Wiener Straße 12, Wiener Straße 12
SUMMARY:The Common Blue Songs von Billie Holiday, Bob Dylan, Fever Ray
END:VEVENT
END:VCALENDAR
