BEGIN:VCALENDAR
VERSION:2.0
PRODID:-//Purkersdorf Online//NONSGML V1.0//DE
BEGIN:VEVENT
UID:12380@puon.at
DTSTAMP:20260425T161116
DTSTART:20161028T193000
DTEND:20161028T220000
LAST-MODIFIED:20160914T200447
DESCRIPTION:Wiener Swingender Modern Jazz\r\n\r\nSwingender Modern Jazz\
 , komponiert von Stefan Wagner\, arrangiert von Georg Barnert\, dargebot
 en von einer hochklassigen\, eingespielten Band!\r\nDer Gitarrist und Ko
 mponist Stefan Wagner (geb. 1965) ist seit vielen Jahren in der Jazzszen
 e präsent\, hat bis dato 3 CDs herausgebracht und zahlreiche Konzerte im
  In-  und Ausland gespielt\, sowohl in kleinen Clubs als auch auf großen
  Festivalbühnen. Seine „Acoustic Group“ hat er vor zwei Jahren ursprüngl
 ich als Quintett gegründet.\r\n\r\nNun hat Stefan Wagner diese Band um 2
  Musiker erweitert\, u.a. um den großartigen Arrangeur Georg Barnert\, d
 er Stefan Wagners Stücke mit neuen Klangfarben bereichert und selbst eig
 ene Kompositionen in das Programm mit einbringt.\r\nDer Hausherr der „Bü
 hne“\, Karl Takats spielt übrigens auf allen drei CDs von Stefan Wagner 
 mit\, ein Gastauftritt ist also nicht ausgeschlossen!\r\n\r\nBesetzung:\
 r\nGeorg Barnert – as\r\nThomas Beck – ts\r\nJohannes Probst - tr\r\nUrs
 ula Niederbrucker - tb\r\nStefan Wagner - g\r\nNikola Stanosevic - p\r\n
 Gerhard Graml – b\r\nStephan Brodsky – dr\r\n\r\n_______________________
 ________________________________________________________________________
 ______\r\n\r\nEinlass: 18:30 Uhr\r\nBeginn: 19:30 Uhr\r\n\r\nKarten:\r\n
 \r\n    VVK oeticket: Karten online demnächst... | Tel.: 0196096\r\n    
 VVK "Die Bühne": e-mail Kartenreservierung | Tel: 02231 64853\r\n    Kar
 ten Vorverkauf: € 18.- (Abholung an der Abendkassa)\r\n    Karten Abendk
 assa: € 20.-\r\n\r\nSchüler/Studenten/1424Jugend:karte NÖ (Ausweis) € 10
 .-\r\n\r\n\r\nRegionaler Vorverkauf: (ab Verfügbarkeit)\r\n\r\n    NIKOD
 EMUS / Purkersdorf (bis 1 Tag vor Veranstaltungsbeginn)\r\n    HAAR-ATEL
 IER Eva Böhm / Gablitz\r\n    RYDL´s Friseur+Haarreparatur / Purkersdorf
 
LOCATION:Kulturverein "Die Bühne" Purkersdorf bei Wien, Wiener Straße 12, Wiener Straße 12
SUMMARY:Stefan Wagner – Georg Barnert Oktett
END:VEVENT
END:VCALENDAR
