BEGIN:VCALENDAR
VERSION:2.0
PRODID:-//Purkersdorf Online//NONSGML V1.0//DE
BEGIN:VEVENT
UID:12379@puon.at
DTSTAMP:20260426T011643
DTSTART:20161022T193000
DTEND:20161022T220000
LAST-MODIFIED:20160914T200423
DESCRIPTION:ERNST MOLDEN & Walther Soyka\r\n\r\nNeues Programm: "schdrom
 "\r\nErnst Molden\, laut Oberösterreichischer Nachrichten “der herausrag
 ende österreichische Liedermacher der Gegenwart”\, tritt mit seinem engs
 ten musikalischen Partner Walther Soyka\, dem Großmeister der Wiener Knö
 pferlharmonika\, bei uns in „Der Bühne“ auf - nach dem umjubelten (und a
 usverkauften) Vorjahresgig mit dem Nino aus Wien ein weiteres sicheres H
 ighlight.\r\n2015 haben sie sich den deutschen Liederpreis für das “bede
 utendste Lied deutscher Sprache” (Ho Rugg) abgeholt\, im Jahr 2016 toure
 n sie mit dem neuen Album “schdrom”\, einer Ode auf die Donau und die Do
 nauauen.\r\n\r\nGemeinsam berühren sie das Publikum mit neuen und alten 
 Molden-Songs – und mit manch gelungener Übertragung aus dem Amerikanisch
 en (Dylan\, Waits\, Guthrie\, Cash uva.)\r\n\r\nErnst Molden - Gitarre\,
  Vocals\r\nWalther Soyka - Akkordeon\, Vocals\r\n\r\n___________________
 ________________________________________________________________________
 __________\r\n\r\nEinlass: 18:30 Uhr\r\nKonzert: 19:30 Uhr\r\n\r\nKarten
 :\r\n\r\n    VVK oeticket: Karten online demnächst... | Tel.: 0196096\r\
 n    VVK "Die Bühne": e-mail Kartenreservierung | Tel: 02231 64853\r\n  
   Karten Vorverkauf: € 20.- (Abholung an der Abendkassa)\r\n    Karten A
 bendkassa: € 22.-\r\n\r\nSchüler/Studenten/1424Jugend:karte NÖ (Ausweis)
  € 10.-\r\n\r\n20% Ermäßigung für Ö1Club-Mitglieder\r\n\r\nRegionaler Vo
 rverkauf: (ab Verfügbarkeit)\r\n\r\n    NIKODEMUS / Purkersdorf\r\n    H
 AAR-ATELIER Eva Böhm / Gablitz\r\n    RYDL´s Friseur+Haarreparatur / Pur
 kersdorf
 
LOCATION:Kulturverein "Die Bühne" Purkersdorf bei Wien, Wiener Straße 12, Wiener Straße 12
SUMMARY:ERNST MOLDEN & Walther Soyka
END:VEVENT
END:VCALENDAR
