BEGIN:VCALENDAR
VERSION:2.0
PRODID:-//Purkersdorf Online//NONSGML V1.0//DE
BEGIN:VEVENT
UID:12378@puon.at
DTSTAMP:20260426T030420
DTSTART:20161021T193000
DTEND:20161021T220000
LAST-MODIFIED:20161009T202511
DESCRIPTION:Ab sofort kein Kartenverkauf und keine Reservierung!\r\nKEIN
 E Abendkassa!\r\nWir bitten um Verständnis...
 
LOCATION:Kulturverein "Die Bühne" Purkersdorf bei Wien, Wiener Straße 12, Wiener Straße 12
SUMMARY:Otto JAUS - Vorstellung ausverkauft!
END:VEVENT
END:VCALENDAR
