BEGIN:VCALENDAR
VERSION:2.0
PRODID:-//Purkersdorf Online//NONSGML V1.0//DE
BEGIN:VEVENT
UID:12362@puon.at
DTSTAMP:20260426T030359
DTSTART:20161021T174500
DTEND:20161021T194500
LAST-MODIFIED:20160911T231046
DESCRIPTION:Nach einem rhythmischen Aufwärmen mittels Body Percussion un
 d Vocal Grooves übertragen wir unsere rhythmische Energie und Kreativitä
 t auf die Instrumente - und entdecken die unterschiedlichen "Aufgaben" d
 er Basstrommel\, Djembe\, Conga\, Rassel oder Triangel innerhalb des Ges
 amtklangs. Aus dem anfänglichen lustvollen\, kreativen Chaos entsteht Zu
 sammenspiel\, und aus den zunächst vorgegebenen Rhythmen können eigene\,
  neue Rhythmusmuster und Improvisationen entstehen.\r\nGemeinsames Musiz
 ieren - bedingungslos\, absichtslos\, unabhängig von Vorkenntnissen: jed
 er kann mitmachen!\r\n\r\nEigene Trommeln sind willkommen\, aber nicht e
 rforderlich!\r\n\r\nBeitrag: 15 €\r\nSchnupperpreis für Erstbesucher: 10
  €\r\nWer einen „Erstling“ zum Schnuppern mitbringt\, zahlt ebenfalls nu
 r 10 €\r\n\r\nFür Tauschkreismitglieder Bezahlung auch in Stunden möglic
 h!\r\n\r\nInfo & Anmeldung: info@groovyspirit.at\, 0680 2030907\r\n\r\nD
 a der Platz im Wintergarten begrenzt ist\, ist eine Anmeldung unbedingt 
 erforderlich!
 
LOCATION:Purkersdorf, Wintergasse
URL:http://groovyspirit.at/drum-circle/trommelkreis-im-wintergarten/
SUMMARY:Trommelkreis im Wintergarten
END:VEVENT
END:VCALENDAR
