BEGIN:VCALENDAR
VERSION:2.0
PRODID:-//Purkersdorf Online//NONSGML V1.0//DE
BEGIN:VEVENT
UID:12311@puon.at
DTSTAMP:20260422T151933
DTSTART:20161116T183000
DTEND:20161116T-2:0:0
LAST-MODIFIED:20160802T212406
DESCRIPTION:Geburtsvorbereitung für Paare die das 2. oder 3. Kind erwart
 en
 
LOCATION:Praxis Gablitz ProMami Wienerwald
URL:http://promami.at
SUMMARY:Geburtsvorbereitung für Paare beim 2.3......Kind
END:VEVENT
END:VCALENDAR
