BEGIN:VCALENDAR
VERSION:2.0
PRODID:-//Purkersdorf Online//NONSGML V1.0//DE
BEGIN:VEVENT
UID:12309@puon.at
DTSTAMP:20260422T064625
DTSTART:20161121T110000
DTEND:20161121T130000
LAST-MODIFIED:20160802T211857
DESCRIPTION:Thema Beikost mit Referentin " Ingeborg Hanreich"
 
LOCATION:Praxis Gablitz ProMami Wienerwald
URL:http://promami.at
SUMMARY:Stillgruppen
END:VEVENT
END:VCALENDAR
