BEGIN:VCALENDAR
VERSION:2.0
PRODID:-//Purkersdorf Online//NONSGML V1.0//DE
BEGIN:VEVENT
UID:12308@puon.at
DTSTAMP:20260425T202734
DTSTART:20161025T110000
DTEND:20161025T-1:3:0
LAST-MODIFIED:20160802T211751
LOCATION:Praxis Gablitz ProMami Wienerwald
URL:http://promami.at
SUMMARY:Stillgruppen
END:VEVENT
END:VCALENDAR
