BEGIN:VCALENDAR
VERSION:2.0
PRODID:-//Purkersdorf Online//NONSGML V1.0//DE
BEGIN:VEVENT
UID:12306@puon.at
DTSTAMP:20260422T132830
DTSTART:20161117T170000
DTEND:20161117T190000
LAST-MODIFIED:20160802T211620
DESCRIPTION:Wochenbett und Babypflege
 
LOCATION:Praxis Gablitz ProMami Wienerwald
URL:http://promami.at
SUMMARY:Hebammensprechstunde
END:VEVENT
END:VCALENDAR
