BEGIN:VCALENDAR
VERSION:2.0
PRODID:-//Purkersdorf Online//NONSGML V1.0//DE
BEGIN:VEVENT
UID:12061@puon.at
DTSTAMP:20260421T175506
DTSTART;VALUE=DATE:20161128
DTEND;VALUE=DATE:20161129
LAST-MODIFIED:20151221T215227
LOCATION:Purkersdorf
SUMMARY:Biomüll
END:VEVENT
END:VCALENDAR
