BEGIN:VCALENDAR
VERSION:2.0
PRODID:-//Purkersdorf Online//NONSGML V1.0//DE
BEGIN:VEVENT
UID:12060@puon.at
DTSTAMP:20260424T121738
DTSTART;VALUE=DATE:20161114
DTEND;VALUE=DATE:20161115
LAST-MODIFIED:20151221T215227
LOCATION:Purkersdorf
SUMMARY:Biomüll
END:VEVENT
END:VCALENDAR
