BEGIN:VCALENDAR
VERSION:2.0
PRODID:-//Purkersdorf Online//NONSGML V1.0//DE
BEGIN:VEVENT
UID:12013@puon.at
DTSTAMP:20260424T103109
DTSTART;VALUE=DATE:20161115
DTEND;VALUE=DATE:20161116
LAST-MODIFIED:20151221T212406
LOCATION:Purkersdorf
SUMMARY:Gelber Sack
END:VEVENT
END:VCALENDAR
