BEGIN:VCALENDAR
VERSION:2.0
PRODID:-//Purkersdorf Online//NONSGML V1.0//DE
BEGIN:VEVENT
UID:11999@puon.at
DTSTAMP:20260421T124851
DTSTART;VALUE=DATE:20161201
DTEND;VALUE=DATE:20161202
LAST-MODIFIED:20151221T211636
LOCATION:Purkersdorf
SUMMARY:Restmüll 770-1100l
END:VEVENT
END:VCALENDAR
