BEGIN:VCALENDAR
VERSION:2.0
PRODID:-//Purkersdorf Online//NONSGML V1.0//DE
BEGIN:VEVENT
UID:11895@puon.at
DTSTAMP:20260422T132830
DTSTART:20161117T200000
DTEND:20161117T210000
LAST-MODIFIED:20160919T102956
DESCRIPTION:Bereits zum dritten Male muss der gestrenge Herr Abgeordnete
  Horst-Clemens Bitterstein\, oberster Repräsentant des Ministeriums für 
 Familienplanung und Geburtenzuwachs\, den Hochzeitstag seiner Tochter Do
 ris miterleben\, ohne dass sein Schwiegersohn Dr. Moritz Mohr für das er
 sehnte Enkelkind gesorgt hat. Und just an diesem Tage erfährt Dr. Mohr v
 on seinem Anwalt und Freund Dr. Kurt Wehling\, dass sein Stiefsohn\, der
  verschollen geglaubt war und ihm persönlich unbekannt ist\, seine Aufwa
 rtung angekündigt hat. Beim Versuch diesen Besuch zu verhindern\, steuer
 n die beiden Freunde\, Dank Dr. Wehlings Ungeschicklichkeit\, auf eine K
 atastrophe zu. Wird man die Existenz des Kindes weiterhin verheimlichen 
 können?
 
LOCATION:Stadtsaal Pressbaum
URL:http://www.wientalbuehne.at
SUMMARY:"Hurra, ein Junge"
END:VEVENT
END:VCALENDAR
